BEGIN:VCALENDAR
VERSION:2.0
PRODID:-//ddaysoftware.com//NONSGML DDay.iCal 1.0//EN
BEGIN:VTIMEZONE
TZID:W. Europe Standard Time
BEGIN:STANDARD
DTSTART:20251002T030000
RRULE:FREQ=YEARLY;BYDAY=-1SU;BYHOUR=3;BYMINUTE=0;BYMONTH=10
TZNAME:W. Europe Standard Time
TZOFFSETFROM:+0200
TZOFFSETTO:+0100
END:STANDARD
BEGIN:DAYLIGHT
DTSTART:20250301T020000
RRULE:FREQ=YEARLY;BYDAY=-1SU;BYHOUR=2;BYMINUTE=0;BYMONTH=3
TZNAME:W. Europe Daylight Time
TZOFFSETFROM:+0100
TZOFFSETTO:+0200
END:DAYLIGHT
END:VTIMEZONE
BEGIN:VEVENT
CATEGORIES:Gemeinde Gerach
DESCRIPTION:\n\nVeranstalter: VdK OV Gerach\n\nhttps://www.vg-baunach.de/ak
 tuelles/veranstaltungskalender/vdk-tagesfahrt/
DTEND:20260912T090000
DTSTAMP:20260420T021958Z
DTSTART:20260912T080000
LOCATION:G Parkplatz Laimbachtalhalle: Hauptstraße 2\, 96161 Gerach
SEQUENCE:0
SUMMARY:VdK Tagesfahrt
UID:18164
URL:https://www.vg-baunach.de/aktuelles/veranstaltungskalender/vdk-tagesfah
 rt/
END:VEVENT
END:VCALENDAR
