BEGIN:VCALENDAR
VERSION:2.0
PRODID:-//ddaysoftware.com//NONSGML DDay.iCal 1.0//EN
BEGIN:VTIMEZONE
TZID:W. Europe Standard Time
BEGIN:STANDARD
DTSTART:20251002T030000
RRULE:FREQ=YEARLY;BYDAY=-1SU;BYHOUR=3;BYMINUTE=0;BYMONTH=10
TZNAME:W. Europe Standard Time
TZOFFSETFROM:+0200
TZOFFSETTO:+0100
END:STANDARD
BEGIN:DAYLIGHT
DTSTART:20250301T020000
RRULE:FREQ=YEARLY;BYDAY=-1SU;BYHOUR=2;BYMINUTE=0;BYMONTH=3
TZNAME:W. Europe Daylight Time
TZOFFSETFROM:+0100
TZOFFSETTO:+0200
END:DAYLIGHT
END:VTIMEZONE
BEGIN:VEVENT
CATEGORIES:Gemeinde Gerach
DESCRIPTION:\n\nVeranstalter: VdK OV Gerach\n\nhttps://www.vg-baunach.de/ak
 tuelles/veranstaltungskalender/vdk-fruehjahrsversammlung-mit-muttertagsfei
 er-und-neuwahlen/
DTEND:20260509T150000
DTSTAMP:20260420T021921Z
DTSTART:20260509T140000
LOCATION:G Laimbachtalhalle Gerach: Hauptstraße 2\, 96161 Gerach
SEQUENCE:0
SUMMARY:VdK Frühjahrsversammlung mit Muttertagsfeier und Neuwahlen
UID:18165
URL:https://www.vg-baunach.de/aktuelles/veranstaltungskalender/vdk-fruehjah
 rsversammlung-mit-muttertagsfeier-und-neuwahlen/
END:VEVENT
END:VCALENDAR
